BEGIN:VCALENDAR
VERSION:2.0
PRODID: -//Q4 Inc.//EN
METHOD:PUBLISH
BEGIN:VTIMEZONE
TZID:America/New_York
X-LIC-LOCATION:America/New_York
BEGIN:DAYLIGHT
TZOFFSETFROM:-0500
TZOFFSETTO:-0400
TZNAME:EDT
DTSTART:19700308T020000
RRULE:FREQ=YEARLY;BYMONTH=3;BYDAY=2SU
END:DAYLIGHT
BEGIN:STANDARD
TZOFFSETFROM:-0400
TZOFFSETTO:-0500
TZNAME:EST
DTSTART:19701101T020000
RRULE:FREQ=YEARLY;BYMONTH=11;BYDAY=1SU
END:STANDARD
END:VTIMEZONE
BEGIN:VEVENT
ORGANIZER:MAILTO:no-reply@q4inc.com
DTSTART;TZID="America/New_York":20260506T083000
DTEND;TZID="America/New_York":20260506T093000
LOCATION:
UID:8d888448-c9a5-4a81-9e03-6794b0d1b1b2
DTSTAMP:20260424T171630
SUMMARY:Disney’s Q2 FY26 Earnings Results Webcast
DESCRIPTION: View More Information: https://investors.thewaltdisneycompany.com/events-and-presentations/event-details/2026/Disneys-Q2-FY26-Earnings-Results-Webcast-2026-PogU4Cr45M/default.aspx
URL;VALUE=URI:https://investors.thewaltdisneycompany.com/events-and-presentations/event-details/2026/Disneys-Q2-FY26-Earnings-Results-Webcast-2026-PogU4Cr45M/default.aspx
PRIORITY:5
CLASS:PUBLIC
END:VEVENT
END:VCALENDAR
